BEGIN:VCALENDAR
VERSION:2.0
PRODID:-//Halbzeit - ECPv6.15.17.1//NONSGML v1.0//EN
CALSCALE:GREGORIAN
METHOD:PUBLISH
X-ORIGINAL-URL:https://halbzeit.ch
X-WR-CALDESC:Veranstaltungen für Halbzeit
REFRESH-INTERVAL;VALUE=DURATION:PT1H
X-Robots-Tag:noindex
X-PUBLISHED-TTL:PT1H
BEGIN:VTIMEZONE
TZID:UTC
BEGIN:STANDARD
TZOFFSETFROM:+0000
TZOFFSETTO:+0000
TZNAME:UTC
DTSTART:20230101T000000
END:STANDARD
END:VTIMEZONE
BEGIN:VEVENT
DTSTART;TZID=UTC:20241204T200000
DTEND;TZID=UTC:20241204T220000
DTSTAMP:20260422T084212
CREATED:20241027T122044Z
LAST-MODIFIED:20241028T074740Z
UID:573-1733342400-1733349600@halbzeit.ch
SUMMARY:FC Schaffhausen - BSC YB
DESCRIPTION:Verfolge das Auswärtsspiel von YB in Schaffhausen LIVE in der Halbzeit. \n🍺 19:30\n⚽ 20:00
URL:https://halbzeit.ch/event/fc-schaffhausen-bsc-yb/
CATEGORIES:Matches
END:VEVENT
END:VCALENDAR