BEGIN:VCALENDAR
VERSION:2.0
PRODID:-//Halbzeit - ECPv6.15.17.1//NONSGML v1.0//EN
CALSCALE:GREGORIAN
METHOD:PUBLISH
X-ORIGINAL-URL:https://halbzeit.ch
X-WR-CALDESC:Veranstaltungen für Halbzeit
REFRESH-INTERVAL;VALUE=DURATION:PT1H
X-Robots-Tag:noindex
X-PUBLISHED-TTL:PT1H
BEGIN:VTIMEZONE
TZID:UTC
BEGIN:STANDARD
TZOFFSETFROM:+0000
TZOFFSETTO:+0000
TZNAME:UTC
DTSTART:20230101T000000
END:STANDARD
END:VTIMEZONE
BEGIN:VEVENT
DTSTART;TZID=UTC:20241215T111500
DTEND;TZID=UTC:20241215T131500
DTSTAMP:20260422T084312
CREATED:20241027T122045Z
LAST-MODIFIED:20241028T074029Z
UID:585-1734261300-1734268500@halbzeit.ch
SUMMARY:Frühschoppen BSC YB - Servette FC
DESCRIPTION:Wir öffnen die Pforte 3 Stunden vor Anpfiff für einen gemeinsamen Frühschoppen. Kommt vorbei\, wir freuen uns auf ein gemeinsames Einstimmen aufs Spiel. HOPP YB! \n🍺 ab 11:15 Uhr\n📺\n🔐 60 Minuten vor Anpfiff
URL:https://halbzeit.ch/event/fruehschoppen-bsc-yb-servette-fc/
CATEGORIES:Matches
END:VEVENT
END:VCALENDAR